Workbook
Name ショート型: リスト!#REF!
Name ショート形態: リスト!#REF!
Name まる: リスト!$A$3:$A$4
Name 何を: リスト!$F$3:$F$5
Name 介護施設等: リスト!$J$3:$J$10
Name 希望有無: リスト!$C$3:$C$5
Name 空き状況: リスト!$D$3:$D$11
Name 退所理由: リスト!$H$3:$H$13
Name 長期理由: リスト!$I$3:$I$8
Name 内容: リスト!$E$3:$E$6
Name 入所理由: リスト!$G$3:$G$9
Name 必要性: リスト!$K$3:$K$8
Name 夜間看護の体制: リスト!#REF!
Name 有無: リスト!$B$3:$B$5

Sheet 介護医療院
C1: 施設の基本情報
A2: 1 | D2: 施設名
A3: 2 | D3: 回答担当者名
A4: 3 | D4: 電話番号
A5: 4 | D5: メールアドレス
C7: 豊中市では、第10期介護保険事業計画期間（令和9年度～令和11年度）において、介護医療院の整備を検討しているところです。 介護医療院は、長期にわたり療養が必要である要介護者に対し、医療・介護・生活支援を一体的に提供する施設であり、日常的な医学管理や看取り・ターミナルケア等に対応する機能を有しています。 本調査は、このような医療ニーズの高い方の受け皿としての必要量を把握することを目的としています。
C9: 問１ 退院先として介護医療院が適していると判断する患者数 貴院において、令和7年度に急性期治療又は回復期リハビリテーション等が終了した豊中市民の患者のうち、退院後も長期的な医学的管理、看護、医療的ケア、看取り対応等を必要とし、在宅、特別養護老人ホーム、介護老人保健施設、有料老人ホーム等では対応が難しく、介護医療院が適していたと考えられる患者数をご記入ください。 | G9: 令和7年度中に退院された方のうち、心身の状態や医療的ケアの必要性、看取り対応の必要性等を踏まえ、退院後の療養先として介護医療院が適していたと考えられる方の人数について、現場の実態に基づきご回答ください。
A10: 5 | C10: 令和7年度における退院者のうち、退院後の療養先として介護医療院が適していたと判断する数 | F10: 人
C12: 問2 退院先として介護医療院が適していると判断する理由 問1の患者について、介護老人福祉施設、介護老人保健施設、認知症対応型共同生活介護、有料老人ホーム等では対応が難しく、介護医療院が適していると判断した理由を選択してください。（複数選択可） | G12: 左記項目は、介護医療院が日常的な医学管理や看取り・ターミナルケア等を担う施設であること、またⅠ型介護医療院が重篤な身体疾患を有する方及び身体合併症を有する認知症高齢者等を主な対象としていることを踏まえ、退院後に他の介護保険施設等では対応が難しいと考えられる状態像として設定しています。
C13: チェック | D13: 患者の状態等
A14: 6 | D14: 喀痰吸引を実施している状態 | G14: =IF(C14="○","TRUE","FALSE") -> FALSE
A15: 7 | D15: 呼吸障害等により人工呼吸器を使用している状態 | G15: =IF(C15="○","TRUE","FALSE") -> FALSE
A16: 8 | D16: 中心静脈注射を実施している状態 | G16: =IF(C16="○","TRUE","FALSE") -> FALSE
A17: 9 | D17: 人工腎臓を実施している状態 | G17: =IF(C17="○","TRUE","FALSE") -> FALSE
A18: 10 | D18: 重篤な心機能障害、呼吸障害等により常時モニター測定を実施している状態 | G18: =IF(C18="○","TRUE","FALSE") -> FALSE
A19: 11 | D19: 人工膀胱又は人工肛門の処置を実施している状態 | G19: =IF(C19="○","TRUE","FALSE") -> FALSE
A20: 12 | D20: 経鼻胃管や胃瘻等の経腸栄養が行われている状態 | G20: =IF(C20="○","TRUE","FALSE") -> FALSE
A21: 13 | D21: 褥瘡に対する治療を実施している状態 | G21: =IF(C21="○","TRUE","FALSE") -> FALSE
A22: 14 | D22: 気管切開が行われている状態 | G22: =IF(C22="○","TRUE","FALSE") -> FALSE
A23: 15 | D23: 認知症の周辺症状（著しい大声、暴言、不潔行為等）と身体疾患の合併 | G23: =IF(C23="○","TRUE","FALSE") -> FALSE
A24: 16 | D24: ​その他（以下にご記入ください。） | G24: =IF(C24="○","TRUE","FALSE") -> FALSE
A25: 17
C27: 問3 介護医療院の必要性 下記役割について、介護医療院の必要性をどの程度感じますか。 項目ごとに選択してください。
C28: 項目 | E28: 必要性
A29: 18 | C29: ①在宅療養が困難となった患者の受け皿
A30: 19 | C30: ②医療依存度が高い高齢者の長期療養の場
A31: 20 | C31: ③在宅と病院の中間的機能
A32: 21 | C32: ④看取り・終末期医療の場
A33: 22 | C33: ⑤家族介護負担の軽減
C35: 問4 介護医療院設置に対する期待 今後、市内に介護医療院が新設された場合、貴院の退院支援（後方連携）においてどの程度活用できると考えますか。（いずれか一つ選択してください）
C36: チェック | D36: 期待度
A37: 23 | D37: 非常に活用できる（退院困難事例の多くが解消され、病床の回転率向上につながるため、強く設置を望む） | G37: =IF(C37="○","TRUE","FALSE") -> FALSE
A38: 24 | D38: ある程度活用できる（条件や医療対応の範囲が合えば、転院先として検討できる） | G38: =IF(C38="○","TRUE","FALSE") -> FALSE
A39: 25 | D39: あまり活用できない（自院の既存の連携先で足りる） | G39: =IF(C39="○","TRUE","FALSE") -> FALSE
A40: 26 | D40: わからない / どちらともいえない | G40: =IF(C40="○","TRUE","FALSE") -> FALSE
C43: 問5 介護医療院に期待する役割 在宅医療連携の観点から、介護医療院に期待する役割や整備・活用についてのご意見、ご提案があればご記入ください。（自由記述）
A44: 27

Sheet リスト
A2: まる | B2: 有無 | C2: 希望有無 | D2: 空き状況 | E2: 内容 | F2: 何を | G2: 入所理由 | H2: 退所理由 | I2: 長期理由 | J2: 介護施設等 | K2: 必要性
A4: ○ | B4: 有 | C4: 希望する | D4: 常に満室 | E4: 増床 | F4: ショートの | G4: 同居家族等による介護が困難となったため | H4: 医療処置の頻度増加（喀痰吸引・経管栄養・点滴等） | I4: 入所待機 | J4: 介護付有料老人ホーム | K4: 非常に必要
B5: 無 | C5: 希望しない | D5: 空床型で特養常時利用のため空きなし | E5: 減床 | F5: 特養の | G5: 介護する家族等がいないため | H5: 医師による継続的な医学管理が必要 | I5: 在宅復帰困難 | J5: 住宅型有料老人ホーム | K5: やや必要
D6: 日によって異なるが、おおむね1～5床の空き | E6: 新設 | G6: 施設·医療機関から退所·退院する必要があるため | H6: 医療依存度が高く施設対応困難 | I6: 家族都合 | J6: 介護型サービス付き高齢者向け住宅 | K6: どちらともいえない
D7: 日によって異なるが、おおむね6～10床の空き | G7: 最期まで看てくれるため | H7: 病状の不安定化（急変・入退院の頻回化） | I7: 医療的理由 | J7: 一般型サービス付き高齢者向け住宅 | K7: あまり必要ない
D8: 日によって異なるが、おおむね11～15床の空き | G8: 現在の居所での認知症への対応が困難なため | H8: 長期入院に伴う退所 | I8: その他 | J8: 特定型ケアハウス | K8: 必要ない
D9: 日によって異なるが、おおむね16～20床の空き | G9: 把握していない | H9: 本人・家族の希望による転所 | J9: 一般型ケアハウス
D10: 日によって異なるが、おおむね21～30床の空き | H10: 経済的理由 | J10: 養護老人ホーム
D11: 日によって異なるが、おおむね31床以上の空き | H11: 死亡
H12: その他
H13: 把握していない

Sheet 集計
B1: 1 | C1: 2 | D1: 3 | E1: 4 | F1: 5 | G1: 6 | H1: 7 | I1: 8 | J1: 9 | K1: 10 | L1: 11 | M1: 12 | N1: 13 | O1: 14 | P1: 15 | Q1: 16 | R1: 17 | S1: 18 | T1: 19 | U1: 20 | V1: 21 | W1: 22 | X1: 23 | Y1: 24 | Z1: 25 | AA1: 26 | AB1: 27
B2: 施設の基本情報 | F2: 問１ 退院先として介護医療院が適していると判断する患者数 | G2: 問2 退院先として介護医療院が適していると判断する理由 | S2: 問3 介護医療院の必要性 | X2: 問4 介護医療院設置に対する期待 | AB2: 問5 介護医療院に期待する役割
F3: 令和7年度における退院者のうち、退院後の療養先として介護医療院が適していたと判断する数 | G3: =_xlfn.XLOOKUP(G1,介護医療院!$A:$A,介護医療院!$C:$C) -> #NAME? | H3: =_xlfn.XLOOKUP(H1,介護医療院!$A:$A,介護医療院!$C:$C) -> #NAME? | I3: =_xlfn.XLOOKUP(I1,介護医療院!$A:$A,介護医療院!$C:$C) -> #NAME? | J3: =_xlfn.XLOOKUP(J1,介護医療院!$A:$A,介護医療院!$C:$C) -> #NAME? | K3: =_xlfn.XLOOKUP(K1,介護医療院!$A:$A,介護医療院!$C:$C) -> #NAME? | L3: =_xlfn.XLOOKUP(L1,介護医療院!$A:$A,介護医療院!$C:$C) -> #NAME? | M3: =_xlfn.XLOOKUP(M1,介護医療院!$A:$A,介護医療院!$C:$C) -> #NAME? | N3: =_xlfn.XLOOKUP(N1,介護医療院!$A:$A,介護医療院!$C:$C) -> #NAME? | ... Q3: =_xlfn.XLOOKUP(Q1,介護医療院!$A:$A,介護医療院!$C:$C) -> #NAME? | S3: ①在宅療養が困難となった患者の受け皿 | T3: ②医療依存度が高い高齢者の長期療養の場 | U3: ③在宅と病院の中間的機能 | V3: ④看取り・終末期医療の場 | W3: ⑤家族介護負担の軽減 | X3: =_xlfn.XLOOKUP(X1,介護医療院!$A:$A,介護医療院!$C:$C) -> #NAME? | Y3: =_xlfn.XLOOKUP(Y1,介護医療院!$A:$A,介護医療院!$C:$C) -> #NAME? | Z3: =_xlfn.XLOOKUP(Z1,介護医療院!$A:$A,介護医療院!$C:$C) -> #NAME? | AA3: =_xlfn.XLOOKUP(AA1,介護医療院!$A:$A,介護医療院!$C:$C) -> #NAME?
B4: 施設名 | C4: 回答担当者名 | D4: 電話番号 | E4: メールアドレス | G4: 喀痰吸引を実施している状態 | H4: 呼吸障害等により人工呼吸器を使用している状態 | I4: 中心静脈注射を実施している状態 | J4: 人工腎臓を実施している状態 | K4: 重篤な心機能障害、呼吸障害等により常時モニター測定を実施している状態 | L4: 人工膀胱又は人工肛門の処置を実施している状態 | M4: 経鼻胃管や胃瘻等の経腸栄養が行われている状態 | N4: 褥瘡に対する治療を実施している状態 | O4: 気管切開が行われている状態 | P4: 認知症の周辺症状（著しい大声、暴言、不潔行為等）と身体疾患の合併 | Q4: ​その他（以下にご記入ください。） | X4: 非常に活用できる（退院困難事例の多くが解消され、病床の回転率向上につながるため、強く設置を望む） | Y4: ある程度活用できる（条件や医療対応の範囲が合えば、転院先として検討できる） | Z4: あまり活用できない（自院の既存の連携先で足りる） | AA4: わからない / どちらともいえない
B5: =_xlfn.XLOOKUP(B1,介護医療院!$A:$A,介護医療院!$E:$E) -> 0 | C5: =_xlfn.XLOOKUP(C1,介護医療院!$A:$A,介護医療院!$E:$E) -> 0 | D5: =_xlfn.XLOOKUP(D1,介護医療院!$A:$A,介護医療院!$E:$E) -> 0 | E5: =_xlfn.XLOOKUP(E1,介護医療院!$A:$A,介護医療院!$E:$E) -> 0 | F5: =_xlfn.XLOOKUP(F1,介護医療院!$A:$A,介護医療院!$E:$E) -> 0 | G5: =IF(G6="TRUE",1,0) -> #NAME? | H5: =IF(H6="TRUE",1,0) -> #NAME? | I5: =IF(I6="TRUE",1,0) -> #NAME? | J5: =IF(J6="TRUE",1,0) -> #NAME? | K5: =IF(K6="TRUE",1,0) -> #NAME? | L5: =IF(L6="TRUE",1,0) -> #NAME? | M5: =IF(M6="TRUE",1,0) -> #NAME? | N5: =IF(N6="TRUE",1,0) -> #NAME? | ... Q5: =IF(Q6="TRUE",1,0) -> #NAME? | R5: =_xlfn.XLOOKUP(R1,介護医療院!$A:$A,介護医療院!$D:$D) -> 0 | S5: =_xlfn.XLOOKUP(S1,介護医療院!$A:$A,介護医療院!$E:$E) -> 0 | T5: =_xlfn.XLOOKUP(T1,介護医療院!$A:$A,介護医療院!$E:$E) -> 0 | U5: =_xlfn.XLOOKUP(U1,介護医療院!$A:$A,介護医療院!$E:$E) -> 0 | V5: =_xlfn.XLOOKUP(V1,介護医療院!$A:$A,介護医療院!$E:$E) -> 0 | W5: =_xlfn.XLOOKUP(W1,介護医療院!$A:$A,介護医療院!$E:$E) -> 0 | X5: =IF(X6="TRUE",1,0) -> #NAME? | Y5: =IF(Y6="TRUE",1,0) -> #NAME? | Z5: =IF(Z6="TRUE",1,0) -> #NAME? | AA5: =IF(AA6="TRUE",1,0) -> #NAME? | AB5: =_xlfn.XLOOKUP(AB1,介護医療院!$A:$A,介護医療院!$D:$D) -> 0
F6: 人 | G6: =IF(G3=TRUE,"TRUE","FALSE") -> #NAME? | H6: =IF(H3=TRUE,"TRUE","FALSE") -> #NAME? | I6: =IF(I3=TRUE,"TRUE","FALSE") -> #NAME? | J6: =IF(J3=TRUE,"TRUE","FALSE") -> #NAME? | K6: =IF(K3=TRUE,"TRUE","FALSE") -> #NAME? | L6: =IF(L3=TRUE,"TRUE","FALSE") -> #NAME? | M6: =IF(M3=TRUE,"TRUE","FALSE") -> #NAME? | N6: =IF(N3=TRUE,"TRUE","FALSE") -> #NAME? | ... Q6: =IF(Q3=TRUE,"TRUE","FALSE") -> #NAME? | X6: =IF(X3=TRUE,"TRUE","FALSE") -> #NAME? | Y6: =IF(Y3=TRUE,"TRUE","FALSE") -> #NAME? | Z6: =IF(Z3=TRUE,"TRUE","FALSE") -> #NAME? | AA6: =IF(AA3=TRUE,"TRUE","FALSE") -> #NAME?
