Workbook

Sheet 内訳表（黄色セルに入力してください）
A1: インフル
A6: 高齢者インフルエンザ定期予防接種 内訳表 | AR6: （令和 | BB6: 年 | BI6: 月接種分）
A9: ※必ず「請求書」と一緒に提出してください。
AA12: 請求日 | AN12: 令和 | AY12: 年 | BG12: 月 | BO12: 日
AA15: 住所 | AM15: :
AA18: 医療機関名 | AM18: :
AA21: 電話番号 | AM21: :
AA24: 氏名 | AM24: :
K30: 一部負担金なし（無料） | AO30: 一部負担金あり（1,500円）
K34: 豊中市民 | U34: 相互乗入 市町民 （＊1） | AE34: 施設 入所者 （相互乗入市町以外の大阪府民）（＊2） | AO34: 豊中市民 | AY34: 相互乗入 市町民 （＊1） | BI34: 施設 入所者 （相互乗入市町以外の大阪府民）（＊2）
A46: 60～64歳 ※手帳等の写し添付要
S48: 人 | AC48: 人 | AM48: 人 | AW48: 人 | BG48: 人 | BQ48: 人
A50: 65歳以上
S52: 人 | AC52: 人 | AM52: 人 | AW52: 人 | BG52: 人 | BQ52: 人
A54: 小 計 | K54: =K46+K50 -> 0 | U54: =U46+U50 -> 0 | AE54: =AE46+AE50 -> 0 | AO54: =AO46+AO50 -> 0 | AY54: =AY46+AY50 -> 0 | BI54: =BI46+BI50 -> 0
S56: 人 | AC56: 人 | AM56: 人 | AW56: 人 | BG56: 人 | BQ56: 人
A58: 合 計 | K58: Ⓐ | P58: =K54+U54+AE54 -> 0 | AO58: Ⓑ | AT58: =AO54+AY54+BI54 -> 0
AJ60: 人 | BN60: 人
A63: （＊1）相互乗入市町：吹田市・箕面市・池田市・摂津市・茨木市・高槻市・豊能町・能勢町・島本町
A66: （＊2）施設入所者：特別養護老人ホーム、介護老人保健施設、養護老人ホーム、軽費老人ホーム
A69: に入所している相互乗入市町以外の大阪府民
A73: 予診のみ | N73: 合計 Ⓒ | T73: 豊中市民 | AG73: 相互乗入市町民 | AT73: 施設入所者
AD77: 人 | AQ77: 人 | BD77: 人
A81: ロスワクチン | AH81: 副反応疑い報告書作成
AE82: 件 | BP82: 件
A87: 請求外他市区町村民
BB89: 件
A90: （＊2）以外で豊中市長あての依頼書が添付されている人数

Sheet 請求書（入力不要）
A1: インフル(令8) | AZ1: 令和8年（2026年）度実施分用 | BS1: 請求書は、内訳表を作成すれば自動的に作成されます。 | BT1: 内訳表と併せて提出してください。
BU4: 請求金額
A7: 豊 中 市 長 様
BU9: =IF(COLUMNS(BU:$CC)>LEN(TEXT($AY113,"¥0;¥-0")),"",LEFT(RIGHT(TEXT($AY113,"¥0;¥-0"),COLUMNS(BU:$CC)),1)) | BV9: =IF(COLUMNS(BV:$CC)>LEN(TEXT($AY113,"¥0;¥-0")),"",LEFT(RIGHT(TEXT($AY113,"¥0;¥-0"),COLUMNS(BV:$CC)),1)) | BW9: =IF(COLUMNS(BW:$CC)>LEN(TEXT($AY113,"¥0;¥-0")),"",LEFT(RIGHT(TEXT($AY113,"¥0;¥-0"),COLUMNS(BW:$CC)),1)) | BX9: =IF(COLUMNS(BX:$CC)>LEN(TEXT($AY113,"¥0;¥-0")),"",LEFT(RIGHT(TEXT($AY113,"¥0;¥-0"),COLUMNS(BX:$CC)),1)) | BY9: =IF(COLUMNS(BY:$CC)>LEN(TEXT($AY113,"¥0;¥-0")),"",LEFT(RIGHT(TEXT($AY113,"¥0;¥-0"),COLUMNS(BY:$CC)),1)) | BZ9: =IF(COLUMNS(BZ:$CC)>LEN(TEXT($AY113,"¥0;¥-0")),"",LEFT(RIGHT(TEXT($AY113,"¥0;¥-0"),COLUMNS(BZ:$CC)),1)) | CA9: =IF(COLUMNS(CA:$CC)>LEN(TEXT($AY113,"¥0;¥-0")),"",LEFT(RIGHT(TEXT($AY113,"¥0;¥-0"),COLUMNS(CA:$CC)),1)) | CB9: =IF(COLUMNS(CB:$CC)>LEN(TEXT($AY113,"¥0;¥-0")),"",LEFT(RIGHT(TEXT($AY113,"¥0;¥-0"),COLUMNS(CB:$CC)),1)) -> ¥ | CC9: =IF(COLUMNS(CC:$CC)>LEN(TEXT($AY113,"¥0;¥-0")),"",LEFT(RIGHT(TEXT($AY113,"¥0;¥-0"),COLUMNS(CC:$CC)),1)) -> 0
A12: 高齢者インフルエンザ定期予防接種 委託料請求書
A17: 定期予防接種に係る費用として、別紙 内訳表・予診票を添えて請求します。
S22: （令和 | AB22: ='内訳表（黄色セルに入力してください）'!AX5 -> 0 | AG22: 年 | AK22: ='内訳表（黄色セルに入力してください）'!BE5 -> 0 | AP22: 月接種分）
AR27: 令和 | AX27: ='内訳表（黄色セルに入力してください）'!AU13 -> 0 | BB27: 年 | BE27: ='内訳表（黄色セルに入力してください）'!BC13 -> 0 | BI27: 月 | BL27: ='内訳表（黄色セルに入力してください）'!BK13 -> 0 | BP27: 日
AA30: 住所 | AM30: : | AO30: ='内訳表（黄色セルに入力してください）'!AO15 -> 0
AA33: 医療機関名 | AM33: : | AO33: ='内訳表（黄色セルに入力してください）'!AO18 -> 0
AA36: 電話番号 | AM36: : | AO36: ='内訳表（黄色セルに入力してください）'!AO21 -> 0
AA39: 氏名 | AM39: : | AO39: ='内訳表（黄色セルに入力してください）'!AO24 -> 0
A43: （請求内訳）
L45: 自己負担金 | U45: 対象者 | AN45: 実施人員 | AW45: 単 価 | BG45: 金 額
A50: 一部負担金 なし （証明書添付） | L50: ０円 | U50: ・豊中市民 ・相互乗入市町民(※1) ・大阪府民の 施設入所者(※2) | AN50: Ⓐ | AP50: ='内訳表（黄色セルに入力してください）'!P58 -> 0 | AW50: ＠ | AZ50: 5313 | BG50: =AP50*AZ50 -> 0
AU55: 人 | BQ55: 円
A58: 一部負担金 あり | L58: 1,500円 | AN58: Ⓑ | AP58: ='内訳表（黄色セルに入力してください）'!AT58 -> 0 | AW58: ＠ | AZ58: 3813 | BG58: =AP58*AZ58 -> 0
AU63: 人 | BQ63: 円
A66: 予診のみ | AN66: Ⓒ | AP66: ='内訳表（黄色セルに入力してください）'!T76+'内訳表（黄色セルに入力してください）'!AG76+'内訳表（黄色セルに入力してください）'!AT76 -> 0 | AW66: ＠ | AZ66: 3223 | BG66: =AP66*AZ66 -> 0
AU69: 人 | BQ69: 円
A71: ロスワクチン | L71: 1件あたり0.5ml | AP71: ='内訳表（黄色セルに入力してください）'!P81 -> 0 | AW71: ＠ | AZ71: 1650 | BG71: =AP71*AZ71 -> 0
AU74: 件 | BQ74: 円
A76: 副反応疑い 報告書作成料 | AP76: ='内訳表（黄色セルに入力してください）'!BA81 -> 0 | AW76: ＠ | AZ76: 550 | BG76: =AP76*AZ76 -> 0
AU79: 件 | BQ79: 円
I81: 合 計 金 額 | AW81: =BG50+BG58+BG71+BG66+BG76 -> 0
BQ84: 円
A87: 内訳表・予診票を添付してください。
A90: ＜豊中市民以外の取扱いについて＞
A92: (※1)相互乗入市町民：吹田市民、箕面市民、池田市民、摂津市民、茨木市民、高槻市民、豊能町民、能勢町民、島本町民
A94: →請求は豊中市民と同様です。（市外実施依頼書は不要）
A96: (※2)大阪府民の施設入所者 ：「特別養護老人ホーム」「介護老人保健施設」「養護老人ホーム」「軽費老人ホーム」
A98: に入所している相互乗入市町以外の大阪府民
A100: →請求は豊中市民と同様です。（ただし、市外実施依頼書の添付が必要）
A101: (※1)(※2)以外の市区町村民
A102: →請求の対象外ですが、市外実施依頼書を添付のうえ、報告のみお願いします。
